BEGIN:VCALENDAR
PRODID:-//eluceo/ical//2.0/EN
VERSION:2.0
CALSCALE:GREGORIAN
BEGIN:VEVENT
UID:d546724b418b79fd4d00b20f835c36de
DTSTAMP:20260423T141319Z
SUMMARY:Virtuelle Führung durch die Edward Hopper Ausstellung / Fondation 
 Beyeler
DESCRIPTION:
URL:https://rotary-club-basel.ch/sv/agenda/show/111998
DTSTART;TZID=Europe/Zurich:20200519T190000
DTEND;TZID=Europe/Zurich:20200519T200000
LOCATION:Videoconferenz (Einwahl gem. sep. Einladungsemail)
CATEGORIES:Rotary
END:VEVENT
BEGIN:VTIMEZONE
TZID:Europe/Zurich
BEGIN:DAYLIGHT
DTSTART:20200519T190000
TZNAME:CEST
TZOFFSETTO:+0200
TZOFFSETFROM:+0200
END:DAYLIGHT
END:VTIMEZONE
END:VCALENDAR
