BEGIN:VCALENDAR
PRODID:-//eluceo/ical//2.0/EN
VERSION:2.0
CALSCALE:GREGORIAN
BEGIN:VEVENT
UID:cf17d7a456419b93e481111d5af6e908
DTSTAMP:20260423T124241Z
SUMMARY:Kein Lunch (Vorstandsbeschluss) 
DESCRIPTION:
URL:https://rotary-club-basel.ch/sv/agenda/show/110689
DTSTART;TZID=Europe/Zurich:20200504T000000
DTEND;TZID=Europe/Zurich:20200504T000000
LOCATION:-
CATEGORIES:Rotary
END:VEVENT
BEGIN:VTIMEZONE
TZID:Europe/Zurich
BEGIN:DAYLIGHT
DTSTART:20200504T000000
TZNAME:CEST
TZOFFSETTO:+0200
TZOFFSETFROM:+0200
END:DAYLIGHT
END:VTIMEZONE
END:VCALENDAR
