BEGIN:VCALENDAR
PRODID:-//eluceo/ical//2.0/EN
VERSION:2.0
CALSCALE:GREGORIAN
BEGIN:VEVENT
UID:27f9fdaa17f270d70503ad2ca9d6e971
DTSTAMP:20260423T124312Z
SUMMARY:Abgesagt (Klassifikationsreferat)
DESCRIPTION:
URL:https://rotary-club-basel.ch/sv/agenda/show/109253
DTSTART;TZID=Europe/Zurich:20200518T181500
DTEND;TZID=Europe/Zurich:20200518T210000
LOCATION:Rennbahnklinik
CATEGORIES:Rotary
END:VEVENT
BEGIN:VTIMEZONE
TZID:Europe/Zurich
BEGIN:DAYLIGHT
DTSTART:20200518T181500
TZNAME:CEST
TZOFFSETTO:+0200
TZOFFSETFROM:+0200
END:DAYLIGHT
END:VTIMEZONE
END:VCALENDAR
