BEGIN:VCALENDAR
PRODID:-//eluceo/ical//2.0/EN
VERSION:2.0
CALSCALE:GREGORIAN
BEGIN:VEVENT
UID:816424b5b2a3ab7e961ee93c0609f116
DTSTAMP:20260423T173918Z
SUMMARY:Psychiatrie in Basel - von der Friedmatt zur UPK
DESCRIPTION:Psychiatrie in Basel – von der «Friedmatt» zu den «Univers
 itären psychiatrischen Diensten»\n\n \n\nEin Drittel der Bevölkerung e
 rkrankt einmal im Leben an einer psychischen Erkrankung. Die Klinikdirekto
 rin der Universitären Kliniken Basel berichtet über die psychiatrische V
 ersorgung in Basel\nRelatore/i: Dr. med. Undine Lang\, Klinikdirektorin
URL:https://rotary-club-basel.ch/it/agenda/show/46268
DTSTART;TZID=Europe/Zurich:20150119T121500
DTEND;TZID=Europe/Zurich:20150119T121500
LOCATION:Restaurant Schlüsselzunft
CATEGORIES:Rotary
END:VEVENT
BEGIN:VTIMEZONE
TZID:Europe/Zurich
BEGIN:STANDARD
DTSTART:20150119T121500
TZNAME:CET
TZOFFSETTO:+0100
TZOFFSETFROM:+0100
END:STANDARD
END:VTIMEZONE
END:VCALENDAR
