BEGIN:VCALENDAR
PRODID:-//eluceo/ical//2.0/EN
VERSION:2.0
CALSCALE:GREGORIAN
BEGIN:VEVENT
UID:0a396b6fafe3b919971820c7fcaad8df
DTSTAMP:20260423T174840Z
SUMMARY:Ein Jahr an der London School of Economics
DESCRIPTION:Tringa Cerkini hat ein von unserem Distrikt mit einem Stipendiu
 m gestütztes Ausbildungjahr an der London School of Economics verbracht u
 nd berichtet und von ihren Erfahrungen.\nRelatore/i: Tringa Cerkini\n
URL:https://rotary-club-basel.ch/it/agenda/show/46267
DTSTART;TZID=Europe/Zurich:20141222T121500
DTEND;TZID=Europe/Zurich:20141222T121500
LOCATION:Restaurant Schlüsselzunft
CATEGORIES:Rotary
END:VEVENT
BEGIN:VTIMEZONE
TZID:Europe/Zurich
BEGIN:STANDARD
DTSTART:20141222T121500
TZNAME:CET
TZOFFSETTO:+0100
TZOFFSETFROM:+0100
END:STANDARD
END:VTIMEZONE
END:VCALENDAR
