BEGIN:VCALENDAR
PRODID:-//eluceo/ical//2.0/EN
VERSION:2.0
CALSCALE:GREGORIAN
BEGIN:VEVENT
UID:43441a3fcf30f8418d2a5be674e0d98f
DTSTAMP:20260423T162046Z
SUMMARY: Universitäre Psychiatrische Kliniken Basel  
DESCRIPTION:Psychiatrie im Wandel – von der „Friedmatt“ zur  „UPK
 “\n\n \n\nMehr als ein Drittel der Bevölkerung leidet einmal im Leben 
 an einer psychischen Erkrankung. \n\nProf. Dr. Undine Lang\, Klinikdirekto
 rin EPK\, stellt uns die UPK und deren Bedeutung für die Versorgung in Ba
 sel vor. \nRelatore/i: Prof. Dr. med. Undine Lang
URL:https://rotary-club-basel.ch/it/agenda/show/45898
DTSTART;TZID=Europe/Zurich:20150119T121500
DTEND;TZID=Europe/Zurich:20150119T121500
LOCATION:Restaurant Schlüsselzunft
CATEGORIES:Rotary
END:VEVENT
BEGIN:VTIMEZONE
TZID:Europe/Zurich
BEGIN:STANDARD
DTSTART:20150119T121500
TZNAME:CET
TZOFFSETTO:+0100
TZOFFSETFROM:+0100
END:STANDARD
END:VTIMEZONE
END:VCALENDAR
