BEGIN:VCALENDAR
PRODID:-//eluceo/ical//2.0/EN
VERSION:2.0
CALSCALE:GREGORIAN
BEGIN:VEVENT
UID:8b1908747edc40b5913b68f190e9b5b2
DTSTAMP:20260423T131713Z
SUMMARY:Neujahrsapéro
DESCRIPTION:
URL:https://rotary-club-basel.ch/it/agenda/show/45709
DTSTART;TZID=Europe/Zurich:20150105T120000
DTEND;TZID=Europe/Zurich:20150105T120000
LOCATION:Restaurant Schlüsselzunft
CATEGORIES:Rotary
END:VEVENT
BEGIN:VTIMEZONE
TZID:Europe/Zurich
BEGIN:STANDARD
DTSTART:20150105T120000
TZNAME:CET
TZOFFSETTO:+0100
TZOFFSETFROM:+0100
END:STANDARD
END:VTIMEZONE
END:VCALENDAR
