BEGIN:VCALENDAR
PRODID:-//eluceo/ical//2.0/EN
VERSION:2.0
CALSCALE:GREGORIAN
BEGIN:VEVENT
UID:1ce7d5cc836f25339cc9810141d1b612
DTSTAMP:20260423T145607Z
SUMMARY:Wandel in der schweizerischen Universitätenlandschaft
DESCRIPTION:Das neue Hochschulförderungs- und Koordinationsgesetz tritt am
  1. Januar 2015 in Kraft. Was wird es uns bringen? Prof. Dr. Antonio Lopri
 eno informiert uns.\nRelatore/i: Prof. Dr. Antonio Loprieno
URL:https://rotary-club-basel.ch/it/agenda/show/45704
DTSTART;TZID=Europe/Zurich:20150112T121500
DTEND;TZID=Europe/Zurich:20150112T121500
LOCATION:Restaurant Schlüsselzunft
CATEGORIES:Rotary
END:VEVENT
BEGIN:VTIMEZONE
TZID:Europe/Zurich
BEGIN:STANDARD
DTSTART:20150112T121500
TZNAME:CET
TZOFFSETTO:+0100
TZOFFSETFROM:+0100
END:STANDARD
END:VTIMEZONE
END:VCALENDAR
