BEGIN:VCALENDAR
PRODID:-//eluceo/ical//2.0/EN
VERSION:2.0
CALSCALE:GREGORIAN
BEGIN:VEVENT
UID:35ea495f3685cf267279e9b39340cb7c
DTSTAMP:20260425T033750Z
SUMMARY:kein Lunch (Fasnacht)
DESCRIPTION:
URL:https://rotary-club-basel.ch/fr/agenda/show/70877
DTSTART;TZID=Europe/Zurich:20170306T000000
DTEND;TZID=Europe/Zurich:20170306T000000
LOCATION:-
CATEGORIES:Rotary
END:VEVENT
BEGIN:VTIMEZONE
TZID:Europe/Zurich
BEGIN:STANDARD
DTSTART:20170306T000000
TZNAME:CET
TZOFFSETTO:+0100
TZOFFSETFROM:+0100
END:STANDARD
END:VTIMEZONE
END:VCALENDAR
