BEGIN:VCALENDAR
PRODID:-//eluceo/ical//2.0/EN
VERSION:2.0
CALSCALE:GREGORIAN
BEGIN:VEVENT
UID:f74afc9316c9003edf77d14de979897f
DTSTAMP:20260423T094514Z
SUMMARY:Monica Ribar\, VRP SBB\, im Gespräch mit Uni-Rektorin Andrea Schen
 ker-Wicki (Programmchefin)
DESCRIPTION:Site internet: https://unibas.zoom.us/j/95070758672?pwd=bWNVNG9
 6T1BGQTV0ZkZUUVMxODhUZz09
URL:https://rotary-club-basel.ch/fr/agenda/show/119117
DTSTART;TZID=Europe/Zurich:20201102T123000
DTEND;TZID=Europe/Zurich:20201102T131500
LOCATION:Zoom
CATEGORIES:Rotary
END:VEVENT
BEGIN:VTIMEZONE
TZID:Europe/Zurich
BEGIN:STANDARD
DTSTART:20201102T123000
TZNAME:CET
TZOFFSETTO:+0100
TZOFFSETFROM:+0100
END:STANDARD
END:VTIMEZONE
END:VCALENDAR
