BEGIN:VCALENDAR
PRODID:-//eluceo/ical//2.0/EN
VERSION:2.0
CALSCALE:GREGORIAN
BEGIN:VEVENT
UID:e6ee28dbd170d2c67fe071555a16af23
DTSTAMP:20260422T084415Z
SUMMARY:Falko Schlottig
DESCRIPTION:Speaker(s): Klassifikationsvortrag
URL:https://rotary-club-basel.ch/en/agenda/show/96331
DTSTART;TZID=Europe/Zurich:20190128T000000
DTEND;TZID=Europe/Zurich:20190128T000000
LOCATION:Restaurant Schlüsselzunft
CATEGORIES:Rotary
END:VEVENT
BEGIN:VTIMEZONE
TZID:Europe/Zurich
BEGIN:STANDARD
DTSTART:20190128T000000
TZNAME:CET
TZOFFSETTO:+0100
TZOFFSETFROM:+0100
END:STANDARD
END:VTIMEZONE
END:VCALENDAR
