BEGIN:VCALENDAR
PRODID:-//eluceo/ical//2.0/EN
VERSION:2.0
CALSCALE:GREGORIAN
BEGIN:VEVENT
UID:2a322cff7041c3033c97a84399ecff25
DTSTAMP:20260424T125038Z
SUMMARY:Plauderlunch
DESCRIPTION:
URL:https://rotary-club-basel.ch/en/agenda/show/70869
DTSTART;TZID=Europe/Zurich:20170116T000000
DTEND;TZID=Europe/Zurich:20170116T000000
LOCATION:Restaurant Schlüsselzunft
CATEGORIES:Rotary
END:VEVENT
BEGIN:VTIMEZONE
TZID:Europe/Zurich
BEGIN:STANDARD
DTSTART:20170116T000000
TZNAME:CET
TZOFFSETTO:+0100
TZOFFSETFROM:+0100
END:STANDARD
END:VTIMEZONE
END:VCALENDAR
