BEGIN:VCALENDAR
PRODID:-//eluceo/ical//2.0/EN
VERSION:2.0
CALSCALE:GREGORIAN
BEGIN:VEVENT
UID:bf77081f1e3aa0ec331cd28ed13abd6b
DTSTAMP:20260424T094112Z
SUMMARY:Die spektakuläre Karriere des Weihnachtsbaumes
DESCRIPTION:Speaker(s): Prof. Dr. phil. Christine Burckhardt-Seebass\, em. 
 Ordinaria für Volkskunde
URL:https://rotary-club-basel.ch/en/agenda/show/64585
DTSTART;TZID=Europe/Zurich:20161219T121500
DTEND;TZID=Europe/Zurich:20161219T121500
LOCATION:Restaurant Schlüsselzunft
CATEGORIES:Rotary
END:VEVENT
BEGIN:VTIMEZONE
TZID:Europe/Zurich
BEGIN:STANDARD
DTSTART:20161219T121500
TZNAME:CET
TZOFFSETTO:+0100
TZOFFSETFROM:+0100
END:STANDARD
END:VTIMEZONE
END:VCALENDAR
