BEGIN:VCALENDAR
PRODID:-//eluceo/ical//2.0/EN
VERSION:2.0
CALSCALE:GREGORIAN
BEGIN:VEVENT
UID:a3a14844d78cc6e0d88bc51d714131e1
DTSTAMP:20260424T085110Z
SUMMARY:Ich würde jeden nach seinem Gewissen entscheiden lassen. Erasmus u
 nd die Reformation.
DESCRIPTION:Speaker(s): Dr. phil. Christine Christ-von Wedel\, Erasmus-Expe
 rtin
URL:https://rotary-club-basel.ch/en/agenda/show/64576
DTSTART;TZID=Europe/Zurich:20161024T121500
DTEND;TZID=Europe/Zurich:20161024T121500
LOCATION:Restaurant Schlüsselzunft
CATEGORIES:Rotary
END:VEVENT
BEGIN:VTIMEZONE
TZID:Europe/Zurich
BEGIN:DAYLIGHT
DTSTART:20161024T121500
TZNAME:CEST
TZOFFSETTO:+0200
TZOFFSETFROM:+0200
END:DAYLIGHT
END:VTIMEZONE
END:VCALENDAR
