BEGIN:VCALENDAR
PRODID:-//eluceo/ical//2.0/EN
VERSION:2.0
CALSCALE:GREGORIAN
BEGIN:VEVENT
UID:4b15cff9126f6ecfe8fe01b6b0156935
DTSTAMP:20260420T130712Z
SUMMARY:Media semper reformanda. Der permanente Reformationsbedarf in der M
 edienlandschaft am Beispiel von Telebasel.
DESCRIPTION:Speaker(s): Roger Thiriet\, Medienschaffender\, Präsident der 
 Stiftung Telebasel.
URL:https://rotary-club-basel.ch/en/agenda/show/64571
DTSTART;TZID=Europe/Zurich:20160926T121500
DTEND;TZID=Europe/Zurich:20160926T121500
LOCATION:Restaurant Schlüsselzunft
CATEGORIES:Rotary
END:VEVENT
BEGIN:VTIMEZONE
TZID:Europe/Zurich
BEGIN:DAYLIGHT
DTSTART:20160926T121500
TZNAME:CEST
TZOFFSETTO:+0200
TZOFFSETFROM:+0200
END:DAYLIGHT
END:VTIMEZONE
END:VCALENDAR
