BEGIN:VCALENDAR
PRODID:-//eluceo/ical//2.0/EN
VERSION:2.0
CALSCALE:GREGORIAN
BEGIN:VEVENT
UID:5a29e2a15894e727c7a0d9fe355402e7
DTSTAMP:20260422T091043Z
SUMMARY:Klassifikationsvortrag
DESCRIPTION:Speaker(s): Marc Gitzinger
URL:https://rotary-club-basel.ch/en/agenda/show/64566
DTSTART;TZID=Europe/Zurich:20160829T121500
DTEND;TZID=Europe/Zurich:20160829T121500
LOCATION:Restaurant Schlüsselzunft
CATEGORIES:Rotary
END:VEVENT
BEGIN:VTIMEZONE
TZID:Europe/Zurich
BEGIN:DAYLIGHT
DTSTART:20160829T121500
TZNAME:CEST
TZOFFSETTO:+0200
TZOFFSETFROM:+0200
END:DAYLIGHT
END:VTIMEZONE
END:VCALENDAR
