BEGIN:VCALENDAR
PRODID:-//eluceo/ical//2.0/EN
VERSION:2.0
CALSCALE:GREGORIAN
BEGIN:VEVENT
UID:7f0bab0c1089e28c1751a81980020065
DTSTAMP:20260420T130221Z
SUMMARY:Plauderlunch (Ferien)
DESCRIPTION:
URL:https://rotary-club-basel.ch/en/agenda/show/64554
DTSTART;TZID=Europe/Zurich:20160711T121500
DTEND;TZID=Europe/Zurich:20160711T121500
LOCATION:Restaurant Kunsthalle
CATEGORIES:Rotary
END:VEVENT
BEGIN:VTIMEZONE
TZID:Europe/Zurich
BEGIN:DAYLIGHT
DTSTART:20160711T121500
TZNAME:CEST
TZOFFSETTO:+0200
TZOFFSETFROM:+0200
END:DAYLIGHT
END:VTIMEZONE
END:VCALENDAR
