BEGIN:VCALENDAR
PRODID:-//eluceo/ical//2.0/EN
VERSION:2.0
CALSCALE:GREGORIAN
BEGIN:VEVENT
UID:f95a72c800094fed5b49b7cb45da9498
DTSTAMP:20260424T094255Z
SUMMARY:Rotary Club Frankfurt auf Besuch in Basel
DESCRIPTION:
URL:https://rotary-club-basel.ch/en/agenda/show/64548
DTSTART;TZID=Europe/Zurich:20160625T120000
DTEND;TZID=Europe/Zurich:20160625T120000
LOCATION:Kunstmuseum Basel
CATEGORIES:Rotary
END:VEVENT
BEGIN:VTIMEZONE
TZID:Europe/Zurich
BEGIN:DAYLIGHT
DTSTART:20160625T120000
TZNAME:CEST
TZOFFSETTO:+0200
TZOFFSETFROM:+0200
END:DAYLIGHT
END:VTIMEZONE
END:VCALENDAR
