BEGIN:VCALENDAR
PRODID:-//eluceo/ical//2.0/EN
VERSION:2.0
CALSCALE:GREGORIAN
BEGIN:VEVENT
UID:6aca5146d33ee182f98d7cc6b44c4ac0
DTSTAMP:20260424T093951Z
SUMMARY:Haben Universitäten einen Markt ?
DESCRIPTION:Speaker(s): Rot. Antonio Loprieno
URL:https://rotary-club-basel.ch/en/agenda/show/58479
DTSTART;TZID=Europe/Zurich:20160613T121500
DTEND;TZID=Europe/Zurich:20160613T121500
LOCATION:Restaurant Schlüsselzunft
CATEGORIES:Rotary
END:VEVENT
BEGIN:VTIMEZONE
TZID:Europe/Zurich
BEGIN:DAYLIGHT
DTSTART:20160613T121500
TZNAME:CEST
TZOFFSETTO:+0200
TZOFFSETFROM:+0200
END:DAYLIGHT
END:VTIMEZONE
END:VCALENDAR
