BEGIN:VCALENDAR
PRODID:-//eluceo/ical//2.0/EN
VERSION:2.0
CALSCALE:GREGORIAN
BEGIN:VEVENT
UID:78b7526f55433fb0e6b819fa8011ad79
DTSTAMP:20260421T055625Z
SUMMARY:Märkte und Messen aus historischer Sicht
DESCRIPTION:Speaker(s): Rot. Georg Kreis
URL:https://rotary-club-basel.ch/en/agenda/show/51809
DTSTART;TZID=Europe/Zurich:20150629T121500
DTEND;TZID=Europe/Zurich:20150629T121500
LOCATION:Restaurant Schlüsselzunft
CATEGORIES:Rotary
END:VEVENT
BEGIN:VTIMEZONE
TZID:Europe/Zurich
BEGIN:DAYLIGHT
DTSTART:20150629T121500
TZNAME:CEST
TZOFFSETTO:+0200
TZOFFSETFROM:+0200
END:DAYLIGHT
END:VTIMEZONE
END:VCALENDAR
