BEGIN:VCALENDAR
PRODID:-//eluceo/ical//2.0/EN
VERSION:2.0
CALSCALE:GREGORIAN
BEGIN:VEVENT
UID:891725d326f80631a9e6298d4697c8a2
DTSTAMP:20260421T060244Z
SUMMARY:"Im Wandel der Zeit" - Gedanken zum Thema und ein Rückblick auf da
 s Programm
DESCRIPTION:«Im Wandel der Zeit» – Einige Bemerkungen zum Thema und ein
  Rückblick auf das Jahresprogramm des Rotary Club Basel 2014 - 2015\n \n
 Speaker(s): Rot. Lukas Richterich\n\n
URL:https://rotary-club-basel.ch/en/agenda/show/49098
DTSTART;TZID=Europe/Zurich:20150622T121500
DTEND;TZID=Europe/Zurich:20150622T121500
LOCATION:Restaurant Schlüsselzunft
CATEGORIES:Rotary
END:VEVENT
BEGIN:VTIMEZONE
TZID:Europe/Zurich
BEGIN:DAYLIGHT
DTSTART:20150622T121500
TZNAME:CEST
TZOFFSETTO:+0200
TZOFFSETFROM:+0200
END:DAYLIGHT
END:VTIMEZONE
END:VCALENDAR
