BEGIN:VCALENDAR
PRODID:-//eluceo/ical//2.0/EN
VERSION:2.0
CALSCALE:GREGORIAN
BEGIN:VEVENT
UID:376b744576a8a818ea88c1959bba104f
DTSTAMP:20260423T092208Z
SUMMARY:"Du" - Die wechselvolle Geschichte einer schweizerischen Kulturzeit
 schrift
DESCRIPTION:\nOliver Prange\, Verleger des «DU» berichtet über die wechs
 elvolle Geschichte der 1941 gegründeten Kulturzeitschrift\, ihre Gegenwar
 t und ihre Aussichten.\n \nSpeaker(s): Referent: Oliver Prange\n
URL:https://rotary-club-basel.ch/en/agenda/show/49093
DTSTART;TZID=Europe/Zurich:20150511T121500
DTEND;TZID=Europe/Zurich:20150511T121500
LOCATION:Restaurant Schlüsselzunft
CATEGORIES:Rotary
END:VEVENT
BEGIN:VTIMEZONE
TZID:Europe/Zurich
BEGIN:DAYLIGHT
DTSTART:20150511T121500
TZNAME:CEST
TZOFFSETTO:+0200
TZOFFSETFROM:+0200
END:DAYLIGHT
END:VTIMEZONE
END:VCALENDAR
