BEGIN:VCALENDAR
PRODID:-//eluceo/ical//2.0/EN
VERSION:2.0
CALSCALE:GREGORIAN
BEGIN:VEVENT
UID:92353869dff92043d7280bace5e34e83
DTSTAMP:20260421T055943Z
SUMMARY:NachbarNET Basel - Unsere Weihnachtsspende von 2014
DESCRIPTION:\nDer Geschäftsführer von NachbarNET Basel stellt uns seine O
 rganisation vor und das Projekt der neuen digitalen Plattform\, die auch D
 ank unserer Weihnachtsspende von 2014 geschaffen werden kann.\nSpeaker(s):
  Referent: Pierre-Alain Niklaus\n\n
URL:https://rotary-club-basel.ch/en/agenda/show/45707
DTSTART;TZID=Europe/Zurich:20150601T121500
DTEND;TZID=Europe/Zurich:20150601T121500
LOCATION:-
CATEGORIES:Rotary
END:VEVENT
BEGIN:VTIMEZONE
TZID:Europe/Zurich
BEGIN:DAYLIGHT
DTSTART:20150601T121500
TZNAME:CEST
TZOFFSETTO:+0200
TZOFFSETFROM:+0200
END:DAYLIGHT
END:VTIMEZONE
END:VCALENDAR
