BEGIN:VCALENDAR
PRODID:-//eluceo/ical//2.0/EN
VERSION:2.0
CALSCALE:GREGORIAN
BEGIN:VEVENT
UID:4f629673bcbf68b4d88551f7e5cae909
DTSTAMP:20260421T060401Z
SUMMARY:Flimmerkiste - 60 Jahre Fernsehen - zwischen Illusion und Wirklichk
 eit
DESCRIPTION:Flimmerkiste - 60 Jahre Fernsehen - zwischen Illusion und Wirkl
 ichkeit\n\nReferat zur Ausstellung im Historischen Museum Basel über die 
 Geschichte des Schweizer Fernsehens.\nSpeaker(s): Marie-Paule Jungblut\nCh
 ristoph Stratenwerth
URL:https://rotary-club-basel.ch/en/agenda/show/44324
DTSTART;TZID=Europe/Zurich:20141110T121500
DTEND;TZID=Europe/Zurich:20141110T121500
LOCATION:Restaurant Schlüsselzunft
CATEGORIES:Rotary
END:VEVENT
BEGIN:VTIMEZONE
TZID:Europe/Zurich
BEGIN:STANDARD
DTSTART:20141110T121500
TZNAME:CET
TZOFFSETTO:+0100
TZOFFSETFROM:+0100
END:STANDARD
END:VTIMEZONE
END:VCALENDAR
