BEGIN:VCALENDAR
PRODID:-//eluceo/ical//2.0/EN
VERSION:2.0
CALSCALE:GREGORIAN
BEGIN:VEVENT
UID:93099e8791f9233a54375e7bf5ea5aa2
DTSTAMP:20260425T102438Z
SUMMARY:Istanbul: Reisebericht
DESCRIPTION:Die zweite Reise des Rotary Club Basel des Jahres 2014 findet v
 om 30. August bis zum 6. September statt. Wir kommen in den Genuss des Rei
 seberichts.\nSpeaker(s): Rot. Christian Brückner
URL:https://rotary-club-basel.ch/en/agenda/show/44318
DTSTART;TZID=Europe/Zurich:20141006T121500
DTEND;TZID=Europe/Zurich:20141006T121500
LOCATION:Restaurant Schlüsselzunft
CATEGORIES:Rotary
END:VEVENT
BEGIN:VTIMEZONE
TZID:Europe/Zurich
BEGIN:DAYLIGHT
DTSTART:20141006T121500
TZNAME:CEST
TZOFFSETTO:+0200
TZOFFSETFROM:+0200
END:DAYLIGHT
END:VTIMEZONE
END:VCALENDAR
