BEGIN:VCALENDAR
PRODID:-//eluceo/ical//2.0/EN
VERSION:2.0
CALSCALE:GREGORIAN
BEGIN:VEVENT
UID:a6d7abfc8929090325d0de5a8df319d1
DTSTAMP:20260420T093910Z
SUMMARY:Natur verkaufen?
DESCRIPTION:Der Direktor Schweiz Tourismus spricht darüber\, ob und wie de
 r Tourismus die Natur vermarkten kann bzw. soll.\nSpeaker(s): Jürg Schmid
 \, Direktor Schweiz Tourismus
URL:https://rotary-club-basel.ch/en/agenda/show/26198
DTSTART;TZID=Europe/Zurich:20121029T121500
DTEND;TZID=Europe/Zurich:20121029T121500
LOCATION:Restaurant Schlüsselzunft
CATEGORIES:Rotary
END:VEVENT
BEGIN:VTIMEZONE
TZID:Europe/Zurich
BEGIN:STANDARD
DTSTART:20121029T121500
TZNAME:CET
TZOFFSETTO:+0100
TZOFFSETFROM:+0100
END:STANDARD
END:VTIMEZONE
END:VCALENDAR
