BEGIN:VCALENDAR
PRODID:-//eluceo/ical//2.0/EN
VERSION:2.0
CALSCALE:GREGORIAN
BEGIN:VEVENT
UID:73ae962a288237b645033b6cc778fab1
DTSTAMP:20260422T161106Z
SUMMARY:Ausfall Referat Beatrice Stirnimann – Plauderlunch!
DESCRIPTION:Referenten/innen: Beatrice Stirnimann muss leider einen wichtig
 en Termin in einer Grossratskommission wahrnehmen und kann darum ihr Refer
 at nicht halten. Wir haben darum einen Plauderlunch.
URL:https://rotary-club-basel.ch/de/agenda/show/113959
DTSTART;TZID=Europe/Zurich:20200921T121500
DTEND;TZID=Europe/Zurich:20200921T134500
LOCATION:Restaurant Schlüsselzunft
CATEGORIES:Rotary
END:VEVENT
BEGIN:VTIMEZONE
TZID:Europe/Zurich
BEGIN:DAYLIGHT
DTSTART:20200921T121500
TZNAME:CEST
TZOFFSETTO:+0200
TZOFFSETFROM:+0200
END:DAYLIGHT
END:VTIMEZONE
END:VCALENDAR
