BEGIN:VCALENDAR
PRODID:-//eluceo/ical//2.0/EN
VERSION:2.0
CALSCALE:GREGORIAN
BEGIN:VEVENT
UID:a152dd0f3921b95c5654358131b30f98
DTSTAMP:20260422T143158Z
SUMMARY:Lunch-Referat – Alexandra Nicola IAMANEH Schweiz 
DESCRIPTION:Referenten/innen: Alexandra Nicola von IAMANEH Schweiz zeigt un
 s\, was mit unserer Weihnachtsspende erreicht werden konnte
URL:https://rotary-club-basel.ch/de/agenda/show/113958
DTSTART;TZID=Europe/Zurich:20200928T121500
DTEND;TZID=Europe/Zurich:20200928T134500
LOCATION:Restaurant Schlüsselzunft
CATEGORIES:Rotary
END:VEVENT
BEGIN:VTIMEZONE
TZID:Europe/Zurich
BEGIN:DAYLIGHT
DTSTART:20200928T121500
TZNAME:CEST
TZOFFSETTO:+0200
TZOFFSETFROM:+0200
END:DAYLIGHT
END:VTIMEZONE
END:VCALENDAR
