BEGIN:VCALENDAR
PRODID:-//eluceo/ical//2.0/EN
VERSION:2.0
CALSCALE:GREGORIAN
BEGIN:VEVENT
UID:fe86dff99bd1fdef9c1b43b0d1304b18
DTSTAMP:20260422T175126Z
SUMMARY:Lunch-Referat – Guy Lachappelle
DESCRIPTION:Referenten/innen: Guy Lachapelle Die Rolle der Grossbanken in d
 er Corona-Krise
URL:https://rotary-club-basel.ch/de/agenda/show/113957
DTSTART;TZID=Europe/Zurich:20200914T121500
DTEND;TZID=Europe/Zurich:20200914T134500
LOCATION:Restaurant Schlüsselzunft
CATEGORIES:Rotary
END:VEVENT
BEGIN:VTIMEZONE
TZID:Europe/Zurich
BEGIN:DAYLIGHT
DTSTART:20200914T121500
TZNAME:CEST
TZOFFSETTO:+0200
TZOFFSETFROM:+0200
END:DAYLIGHT
END:VTIMEZONE
END:VCALENDAR
