BEGIN:VCALENDAR
PRODID:-//eluceo/ical//2.0/EN
VERSION:2.0
CALSCALE:GREGORIAN
BEGIN:VEVENT
UID:701730007709e40282d08c0a1efdf708
DTSTAMP:20260421T231250Z
SUMMARY:Kein Lunch (Vorstandsbeschluss) 
DESCRIPTION:
URL:https://rotary-club-basel.ch/de/agenda/show/109247
DTSTART;TZID=Europe/Zurich:20200330T000000
DTEND;TZID=Europe/Zurich:20200330T000000
LOCATION:-
CATEGORIES:Rotary
END:VEVENT
BEGIN:VTIMEZONE
TZID:Europe/Zurich
BEGIN:DAYLIGHT
DTSTART:20200330T000000
TZNAME:CEST
TZOFFSETTO:+0200
TZOFFSETFROM:+0200
END:DAYLIGHT
END:VTIMEZONE
END:VCALENDAR
