BEGIN:VCALENDAR
PRODID:-//eluceo/ical//2.0/EN
VERSION:2.0
CALSCALE:GREGORIAN
BEGIN:VEVENT
UID:1934d6132d39d189e056893290c91cad
DTSTAMP:20260422T045656Z
SUMMARY:Kein Lunch (Fasnachtsmontag)
DESCRIPTION:
URL:https://rotary-club-basel.ch/de/agenda/show/109243
DTSTART;TZID=Europe/Zurich:20200302T000000
DTEND;TZID=Europe/Zurich:20200302T000000
LOCATION:Restaurant Schlüsselzunft
CATEGORIES:Rotary
END:VEVENT
BEGIN:VTIMEZONE
TZID:Europe/Zurich
BEGIN:STANDARD
DTSTART:20200302T000000
TZNAME:CET
TZOFFSETTO:+0100
TZOFFSETFROM:+0100
END:STANDARD
END:VTIMEZONE
END:VCALENDAR
