BEGIN:VCALENDAR
PRODID:-//eluceo/ical//2.0/EN
VERSION:2.0
CALSCALE:GREGORIAN
BEGIN:VEVENT
UID:9f7cc44959c40b0b39ec5be7c0e3466d
DTSTAMP:20260422T062332Z
SUMMARY:Plauderlunch (Sportferien)
DESCRIPTION:
URL:https://rotary-club-basel.ch/de/agenda/show/109242
DTSTART;TZID=Europe/Zurich:20200224T000000
DTEND;TZID=Europe/Zurich:20200224T000000
LOCATION:Restaurant Schlüsselzunft
CATEGORIES:Rotary
END:VEVENT
BEGIN:VTIMEZONE
TZID:Europe/Zurich
BEGIN:STANDARD
DTSTART:20200224T000000
TZNAME:CET
TZOFFSETTO:+0100
TZOFFSETFROM:+0100
END:STANDARD
END:VTIMEZONE
END:VCALENDAR
