BEGIN:VCALENDAR
PRODID:-//eluceo/ical//2.0/EN
VERSION:2.0
CALSCALE:GREGORIAN
BEGIN:VEVENT
UID:646363c6cab5abc881f6f7a18e1bb15b
DTSTAMP:20260422T075525Z
SUMMARY:Lunch Referat\; Alexandre Fasel\, Schweizer Botschafter in London\,
  "Brexit neu denken"
DESCRIPTION:
URL:https://rotary-club-basel.ch/de/agenda/show/109241
DTSTART;TZID=Europe/Zurich:20200217T000000
DTEND;TZID=Europe/Zurich:20200217T000000
LOCATION:Restaurant Schlüsselzunft
CATEGORIES:Rotary
END:VEVENT
BEGIN:VTIMEZONE
TZID:Europe/Zurich
BEGIN:STANDARD
DTSTART:20200217T000000
TZNAME:CET
TZOFFSETTO:+0100
TZOFFSETFROM:+0100
END:STANDARD
END:VTIMEZONE
END:VCALENDAR
