BEGIN:VCALENDAR
PRODID:-//eluceo/ical//2.0/EN
VERSION:2.0
CALSCALE:GREGORIAN
BEGIN:VEVENT
UID:f055e05efe6b5c3e770293ceb4d870de
DTSTAMP:20260422T092146Z
SUMMARY:Lunch Referat\; Simone Schmid\, Drehbuchautorin "Zwingli" Film\, "S
 chweizer Film Neu denken"
DESCRIPTION:
URL:https://rotary-club-basel.ch/de/agenda/show/109240
DTSTART;TZID=Europe/Zurich:20200210T000000
DTEND;TZID=Europe/Zurich:20200210T000000
LOCATION:Restaurant Schlüsselzunft
CATEGORIES:Rotary
END:VEVENT
BEGIN:VTIMEZONE
TZID:Europe/Zurich
BEGIN:STANDARD
DTSTART:20200210T000000
TZNAME:CET
TZOFFSETTO:+0100
TZOFFSETFROM:+0100
END:STANDARD
END:VTIMEZONE
END:VCALENDAR
