BEGIN:VCALENDAR
PRODID:-//eluceo/ical//2.0/EN
VERSION:2.0
CALSCALE:GREGORIAN
BEGIN:VEVENT
UID:fa84a8fee5208bfb0c9b804c23f33df2
DTSTAMP:20260422T110502Z
SUMMARY:Lunch Referat\; Christoph Kausch\, CEO MTIP\, "Health Care Investme
 nts Neu denken"
DESCRIPTION:
URL:https://rotary-club-basel.ch/de/agenda/show/109239
DTSTART;TZID=Europe/Zurich:20200203T000000
DTEND;TZID=Europe/Zurich:20200203T000000
LOCATION:Restaurant Schlüsselzunft
CATEGORIES:Rotary
END:VEVENT
BEGIN:VTIMEZONE
TZID:Europe/Zurich
BEGIN:STANDARD
DTSTART:20200203T000000
TZNAME:CET
TZOFFSETTO:+0100
TZOFFSETFROM:+0100
END:STANDARD
END:VTIMEZONE
END:VCALENDAR
