BEGIN:VCALENDAR
PRODID:-//eluceo/ical//2.0/EN
VERSION:2.0
CALSCALE:GREGORIAN
BEGIN:VEVENT
UID:9638491b5eaa9fd633d4ba06425e9e26
DTSTAMP:20260421T094229Z
SUMMARY:Generalversammlung Rotary Club Basel
DESCRIPTION:
URL:https://rotary-club-basel.ch/de/agenda/show/104109
DTSTART;TZID=Europe/Zurich:20191021T000000
DTEND;TZID=Europe/Zurich:20191021T000000
LOCATION:Restaurant Schlüsselzunft
CATEGORIES:Rotary
END:VEVENT
BEGIN:VTIMEZONE
TZID:Europe/Zurich
BEGIN:DAYLIGHT
DTSTART:20191021T000000
TZNAME:CEST
TZOFFSETTO:+0200
TZOFFSETFROM:+0200
END:DAYLIGHT
END:VTIMEZONE
END:VCALENDAR
