BEGIN:VCALENDAR
PRODID:-//eluceo/ical//2.0/EN
VERSION:2.0
CALSCALE:GREGORIAN
BEGIN:VEVENT
UID:9ac01c1b8203b4208728e96a03f831d3
DTSTAMP:20260423T090928Z
SUMMARY:Perspektiven des Wirtschaftsstandortes Basel
DESCRIPTION:Regierungsrat Christoph Brutschin bringt uns die Chancen und He
 rausforderungen für Basel als Wirtschaftsstandort näher.\nGovornik(ci): 
 Christoph Brutschin\, mag. lic. rer. pol. / Betriebsökonom HWV\nVorsteher
  des Departements für Wirtschaft\, Soziales und Umwelt\, Kanton Basel-Sta
 dt
URL:https://rotary-club-basel.ch/bs/agenda/show/43030
DTSTART;TZID=Europe/Zurich:20140825T121500
DTEND;TZID=Europe/Zurich:20140825T121500
LOCATION:Restaurant Schlüsselzunft
CATEGORIES:Rotary
END:VEVENT
BEGIN:VTIMEZONE
TZID:Europe/Zurich
BEGIN:DAYLIGHT
DTSTART:20140825T121500
TZNAME:CEST
TZOFFSETTO:+0200
TZOFFSETFROM:+0200
END:DAYLIGHT
END:VTIMEZONE
END:VCALENDAR
