BEGIN:VCALENDAR
PRODID:-//eluceo/ical//2.0/EN
VERSION:2.0
CALSCALE:GREGORIAN
BEGIN:VEVENT
UID:7a65940454babe344b359a0ca3fa05ec
DTSTAMP:20260419T161759Z
SUMMARY:Der Roche Bau 1
DESCRIPTION:Stefan Marbach\, verantwortlicher Partner für den Roche Bau 1\
 , berichtet über den Bau des Roche Turmes.\n\nDieser wird seine Höhe bal
 d erreicht haben und prägt schon jetzt das Gesicht Basels.\n\n \nGovorni
 k(ci): Stefan Marbach\, Senior Partner bei Herzog & de Meuron
URL:https://rotary-club-basel.ch/bs/agenda/show/41724
DTSTART;TZID=Europe/Zurich:20140630T121500
DTEND;TZID=Europe/Zurich:20140630T121500
LOCATION:Restaurant Schlüsselzunft
CATEGORIES:Rotary
END:VEVENT
BEGIN:VTIMEZONE
TZID:Europe/Zurich
BEGIN:DAYLIGHT
DTSTART:20140630T121500
TZNAME:CEST
TZOFFSETTO:+0200
TZOFFSETFROM:+0200
END:DAYLIGHT
END:VTIMEZONE
END:VCALENDAR
