BEGIN:VCALENDAR
PRODID:-//eluceo/ical//2.0/EN
VERSION:2.0
CALSCALE:GREGORIAN
BEGIN:VEVENT
UID:5463d6ef4f2d71344d88fe4d90805435
DTSTAMP:20260423T131254Z
SUMMARY:2014/2015
DESCRIPTION:Im Wandel der Zeit:\nWir leben in einer Zeit grosser Veränderu
 ng. Alte Sicherheiten\, politische Konstellationen und gesellschaftliche K
 onventionen scheinen sich aufzulösen. Das Gefühl von Verunsicherung und 
 die Sehnsucht nach der Vergangenheit hat den Elan früherer Jahrzehnte abg
 elöst.\nIm Rotary Programm 2014 /15 soll die Zeitperspektive  in einer k
 onstruktiven Art im Zentrum stehen. Einerseits mit dem  Blick zurück\, d
 er zeigt\, wie aus „früher“ das wurde\, was heute Gegenwart ist\, and
 ererseits unter der Zukunftsperspektive\, die auch die Chancen sieht\, die
  vor uns liegen.\nEs werden unterschiedliche Fach-  und Lebensbereiche un
 d auch unser eigener Club beleuchtet.\n\nRot. Lukas Richterich\, Juni 2014
URL:https://rotary-club-basel.ch/bs/agenda/show/41723
DTSTART;TZID=Europe/Zurich:20140623T000000
DTEND;TZID=Europe/Zurich:20150622T000000
LOCATION:-
CATEGORIES:Rotary
END:VEVENT
BEGIN:VTIMEZONE
TZID:Europe/Zurich
BEGIN:DAYLIGHT
DTSTART:20140623T000000
TZNAME:CEST
TZOFFSETTO:+0200
TZOFFSETFROM:+0200
END:DAYLIGHT
BEGIN:STANDARD
DTSTART:20141026T020000
TZNAME:CET
TZOFFSETTO:+0100
TZOFFSETFROM:+0200
END:STANDARD
BEGIN:DAYLIGHT
DTSTART:20150329T030000
TZNAME:CEST
TZOFFSETTO:+0200
TZOFFSETFROM:+0100
END:DAYLIGHT
END:VTIMEZONE
END:VCALENDAR
