BEGIN:VCALENDAR
PRODID:-//eluceo/ical//2.0/EN
VERSION:2.0
CALSCALE:GREGORIAN
BEGIN:VEVENT
UID:8ae817f9d907f4281353fc4701a54246
DTSTAMP:20260421T094519Z
SUMMARY:Amtsübergabe
DESCRIPTION:Die Amtsübergabe findet am 23. Juni im Restaurant Brauerei sta
 tt. Apéro ab 18 Uhr zu Jazz-Klängen im Garten des Restaurants. Etwa um 1
 9 Uhr gemeinsames Nachtessen.\n\n \n\n \nWeb stranica: http://www.brauer
 ei-basel.ch
URL:https://rotary-club-basel.ch/bs/agenda/show/41308
DTSTART;TZID=Europe/Zurich:20140623T180000
DTEND;TZID=Europe/Zurich:20140623T180000
LOCATION:Restaurant Brauerei\, Grenzacherstrasse 60\, Basel
CATEGORIES:Rotary
END:VEVENT
BEGIN:VTIMEZONE
TZID:Europe/Zurich
BEGIN:DAYLIGHT
DTSTART:20140623T180000
TZNAME:CEST
TZOFFSETTO:+0200
TZOFFSETFROM:+0200
END:DAYLIGHT
END:VTIMEZONE
END:VCALENDAR
