BEGIN:VCALENDAR
PRODID:-//eluceo/ical//2.0/EN
VERSION:2.0
CALSCALE:GREGORIAN
BEGIN:VEVENT
UID:431d25001c47ba4583c5036103ef64ed
DTSTAMP:20260419T162638Z
SUMMARY:StrafRAUM
DESCRIPTION:Yann Sommer\, Torhüter des FC Basel stellt uns seinen Arbeits
 platz vor und spricht mit uns über den StrafRAUM.\nWeb stranica: http://d
 e.wikipedia.org/wiki/Yann_Sommer\nGovornik(ci): Yann Sommer\, Torhüter FC
  Basel
URL:https://rotary-club-basel.ch/bs/agenda/show/38944
DTSTART;TZID=Europe/Zurich:20140224T121500
DTEND;TZID=Europe/Zurich:20140224T121500
LOCATION:Restaurant Schlüsselzunft
CATEGORIES:Rotary
END:VEVENT
BEGIN:VTIMEZONE
TZID:Europe/Zurich
BEGIN:STANDARD
DTSTART:20140224T121500
TZNAME:CET
TZOFFSETTO:+0100
TZOFFSETFROM:+0100
END:STANDARD
END:VTIMEZONE
END:VCALENDAR
