BEGIN:VCALENDAR
PRODID:-//eluceo/ical//2.0/EN
VERSION:2.0
CALSCALE:GREGORIAN
BEGIN:VEVENT
UID:347b1fa4e7eea617d7bea8fccf959e55
DTSTAMP:20260419T162124Z
SUMMARY:Partneranlass - WeltRAUM
DESCRIPTION:Partneranlass mit Ausstellungsführung und gemeinsamem Dinner i
 m Architekturmuseum\, Basel.\n\nIm Mai 2014 wird das SAM (Schweizerisches 
 Architekturmuseum\, Basel) eine grosse Retrospektive über den schweizer A
 rchitekten Fritz Haller (1924-2012) zeigen. Fritz Haller gilt als einer d
 er bedeutensten Vertreter der s.g. Solothurner Schule\, neben besonders f
 eingliedrigen und gut proportionierten Bürobauten und Schulen entwarf er 
 vor allem das bekannte Möbelbaukastensytem USM Haller.\n\nUnter der Fü
 hrung des SAM Direktors Hubertus Adam werden wir die gerade eröffnete Aus
 stellung besuchen und danach in den Räumen des SAM gemeinsam speisen.\n\
 n \n\nhttp://de.wikipedia.org/wiki/Fritz_Haller_(Architekt)\n\nhttp://www
 .sam-basel.org/de/home\n\nhttp://www.usm.com/de-ch/ueber-uns/wer-wir-sind/
 \n\n 
URL:https://rotary-club-basel.ch/bs/agenda/show/37866
DTSTART;TZID=Europe/Zurich:20140519T183000
DTEND;TZID=Europe/Zurich:20140519T183000
LOCATION:Schweizerisches Architekturmuseum\, Basel
CATEGORIES:Rotary
END:VEVENT
BEGIN:VTIMEZONE
TZID:Europe/Zurich
BEGIN:DAYLIGHT
DTSTART:20140519T183000
TZNAME:CEST
TZOFFSETTO:+0200
TZOFFSETFROM:+0200
END:DAYLIGHT
END:VTIMEZONE
END:VCALENDAR
