BEGIN:VCALENDAR
PRODID:-//eluceo/ical//2.0/EN
VERSION:2.0
CALSCALE:GREGORIAN
BEGIN:VEVENT
UID:4dfba29a4a8c1e6c519a16db9d90e797
DTSTAMP:20260419T145222Z
SUMMARY:ForschungsRAUM Treffpunkt Eingangspavillion 11.30 Uhr !!
DESCRIPTION:Jorinde Behrens\, Architektin und Deputy Head Development Opera
 tions Switzerland bei Novartis\, führt uns durch den neuen Novartis Camp
 us mit anschliessendem gemeinsamen Lunch auf dem Campus.\n\n11.30 Treffpun
 kt am Eingangsgebäude\, anschliessend Führung\n\n12.30 gemeinsamer Lunc
 h im Campus\n\nhttp://www.novartis.com/campus/#/tour/basel\n\n \n\nNur na
 ch Anmeldung bis spätestens 22.1.2014 unter:\n\nrotary@jessenvollenweider
 .ch\n\n \n\nFür die versehentlich nicht angemeldeten\, die dennoch in de
 n Genuss eines Montags-Luches kommen möchten ist im Restaurant Schlüssel
  ein kleiner Tisch in der Lounge reserviert.\n\n \nGovornik(ci): Jorinde 
 Behrens\, Deputy Head Development Operations Switzerland - Pharma Developm
 ent bei Novartis Pharma AG\n\n\n
URL:https://rotary-club-basel.ch/bs/agenda/show/36968
DTSTART;TZID=Europe/Zurich:20140203T113000
DTEND;TZID=Europe/Zurich:20140203T134500
LOCATION:Novartis Campus\, Eingangspavillon
CATEGORIES:Rotary
END:VEVENT
BEGIN:VTIMEZONE
TZID:Europe/Zurich
BEGIN:STANDARD
DTSTART:20140203T113000
TZNAME:CET
TZOFFSETTO:+0100
TZOFFSETFROM:+0100
END:STANDARD
END:VTIMEZONE
END:VCALENDAR
