BEGIN:VCALENDAR
PRODID:-//eluceo/ical//2.0/EN
VERSION:2.0
CALSCALE:GREGORIAN
BEGIN:VEVENT
UID:c690753abbf3172bc7befa5e23225bf8
DTSTAMP:20260419T162512Z
SUMMARY:Abendanlass Lions
DESCRIPTION:Der Lions Club Basel lädt in diesem Jahr zum gemeinsamen Dinne
 r Rotary/Lions ein.\n\nLions- Rotary Anlass im Restaurant Schützenhaus\, 
 Basel        \n\n18.30 Uhr      Apéro\n\n19.00 Uhr      Refe
 rat von L. Daniel Hollenstein\, (Vorstellung Verein Kiebitz)\n\nDie Koste
 n von CHF 80.00 für Apéro\, Nachtessen\, Wein\, Mineralwasser und Kaffee
  werden vor Ort einkassiert. Die Anmeldung kann bis zum 15. Januar 2014 d
 irekt an rotary@jessenvollenweider.ch erfolgen oder auch per Telefon\, Fax
  oder Post.\n\nAn Colette Kohler\nAssistentin der Geschäftsleitung\, jess
 envollenweider ARCHITEKTUR\nClarastrasse 2\nCh - 4058 Basel\nTel     +4
 1 (0) 61 686 96 36\nFax     +41 (0) 61 686 96 30\n    \nkohler@jesse
 nvollenweider.ch\nwww.jessenvollenweider.ch\n\n \n\nWir freuen uns auf ei
 nen gemeinsamen Abend.\n\n\nMit herzlichen + rotarischen Grüssen\,\n\n\nA
 nna Jessen\nProgrammchefin RC Basel 2013|2014
URL:https://rotary-club-basel.ch/bs/agenda/show/36834
DTSTART;TZID=Europe/Zurich:20140120T183000
DTEND;TZID=Europe/Zurich:20140120T183000
LOCATION:Restaurant Schützenhaus\, Basel
CATEGORIES:Rotary
END:VEVENT
BEGIN:VTIMEZONE
TZID:Europe/Zurich
BEGIN:STANDARD
DTSTART:20140120T183000
TZNAME:CET
TZOFFSETTO:+0100
TZOFFSETFROM:+0100
END:STANDARD
END:VTIMEZONE
END:VCALENDAR
