BEGIN:VCALENDAR
PRODID:-//eluceo/ical//2.0/EN
VERSION:2.0
CALSCALE:GREGORIAN
BEGIN:VEVENT
UID:f7eda531c6a20f3a919ec6b54e41f4e4
DTSTAMP:20260419T162537Z
SUMMARY:Plaudern zwischen den Jahren
DESCRIPTION:
URL:https://rotary-club-basel.ch/bs/agenda/show/34260
DTSTART;TZID=Europe/Zurich:20131230T121500
DTEND;TZID=Europe/Zurich:20131230T121500
LOCATION:Restaurant Schlüsselzunft
CATEGORIES:Rotary
END:VEVENT
BEGIN:VTIMEZONE
TZID:Europe/Zurich
BEGIN:STANDARD
DTSTART:20131230T121500
TZNAME:CET
TZOFFSETTO:+0100
TZOFFSETFROM:+0100
END:STANDARD
END:VTIMEZONE
END:VCALENDAR
