BEGIN:VCALENDAR
PRODID:-//eluceo/ical//2.0/EN
VERSION:2.0
CALSCALE:GREGORIAN
BEGIN:VEVENT
UID:7b287575e602e36c9833bbf79407c205
DTSTAMP:20260421T090245Z
SUMMARY:Natur und Kultur
DESCRIPTION:Der Titel des NATUR Kngress 2013 ist auch der Titel des Referat
 es\nGovornik(ci): Daniel Wiener
URL:https://rotary-club-basel.ch/bs/agenda/show/28886
DTSTART;TZID=Europe/Zurich:20130204T121500
DTEND;TZID=Europe/Zurich:20130204T121500
LOCATION:Restaurant Schlüsselzunft
CATEGORIES:Rotary
END:VEVENT
BEGIN:VTIMEZONE
TZID:Europe/Zurich
BEGIN:STANDARD
DTSTART:20130204T121500
TZNAME:CET
TZOFFSETTO:+0100
TZOFFSETFROM:+0100
END:STANDARD
END:VTIMEZONE
END:VCALENDAR
