BEGIN:VCALENDAR
PRODID:-//eluceo/ical//2.0/EN
VERSION:2.0
CALSCALE:GREGORIAN
BEGIN:VEVENT
UID:38412db666c34a43307801d58af3d32d
DTSTAMP:20260421T111248Z
SUMMARY:Partneranlass: Konzert im Stadtcasino
DESCRIPTION:Konzert mit "The Academy of St. Martins in the Fields"\, mit Ei
 nführung und Apéro\nGovornik(ci): Thomas Jung
URL:https://rotary-club-basel.ch/bs/agenda/show/26811
DTSTART;TZID=Europe/Zurich:20121114T183000
DTEND;TZID=Europe/Zurich:20121114T183000
LOCATION:Stadtcasino
CATEGORIES:Rotary
END:VEVENT
BEGIN:VTIMEZONE
TZID:Europe/Zurich
BEGIN:STANDARD
DTSTART:20121114T183000
TZNAME:CET
TZOFFSETTO:+0100
TZOFFSETFROM:+0100
END:STANDARD
END:VTIMEZONE
END:VCALENDAR
