BEGIN:VCALENDAR
PRODID:-//eluceo/ical//2.0/EN
VERSION:2.0
CALSCALE:GREGORIAN
BEGIN:VEVENT
UID:0bf8749cf6b6bb0a2b394d6120ca951a
DTSTAMP:20260419T121846Z
SUMMARY:Projekte zur Weihnachtsspende
DESCRIPTION:Vorstellung der Projekte\, die die Gemeindienstkommission zur W
 eihnachtsspende vorschlägt.
URL:https://rotary-club-basel.ch/bs/agenda/show/26444
DTSTART;TZID=Europe/Zurich:20121105T000000
DTEND;TZID=Europe/Zurich:20121105T000000
LOCATION:Restaurant Schlüsselzunft
CATEGORIES:Rotary
END:VEVENT
BEGIN:VTIMEZONE
TZID:Europe/Zurich
BEGIN:STANDARD
DTSTART:20121105T000000
TZNAME:CET
TZOFFSETTO:+0100
TZOFFSETFROM:+0100
END:STANDARD
END:VTIMEZONE
END:VCALENDAR
