BEGIN:VCALENDAR
PRODID:-//eluceo/ical//2.0/EN
VERSION:2.0
CALSCALE:GREGORIAN
BEGIN:VEVENT
UID:8950699f333c78361174944f485626a4
DTSTAMP:20260421T084047Z
SUMMARY:Reise ins Safiental
DESCRIPTION:Partner- und Kinderanlass
URL:https://rotary-club-basel.ch/bs/agenda/show/25438
DTSTART;TZID=Europe/Zurich:20120908T000000
DTEND;TZID=Europe/Zurich:20120909T000000
LOCATION:-
CATEGORIES:Rotary
END:VEVENT
BEGIN:VTIMEZONE
TZID:Europe/Zurich
BEGIN:DAYLIGHT
DTSTART:20120908T000000
TZNAME:CEST
TZOFFSETTO:+0200
TZOFFSETFROM:+0200
END:DAYLIGHT
END:VTIMEZONE
END:VCALENDAR
