BEGIN:VCALENDAR
PRODID:-//eluceo/ical//2.0/EN
VERSION:2.0
CALSCALE:GREGORIAN
BEGIN:VEVENT
UID:d68429e0c6894a7c58e96b6cd7611bfb
DTSTAMP:20260421T164517Z
SUMMARY:Annual program 2026
DESCRIPTION:
URL:https://polaris-academy.org/bs/agenda/show/207644
DTSTART;TZID=Europe/Zurich:20260101T000000
DTEND;TZID=Europe/Zurich:20260101T000000
LOCATION:Polaris Academy Online
CATEGORIES:Rotary
END:VEVENT
BEGIN:VTIMEZONE
TZID:Europe/Zurich
BEGIN:STANDARD
DTSTART:20260101T000000
TZNAME:CET
TZOFFSETTO:+0100
TZOFFSETFROM:+0100
END:STANDARD
END:VTIMEZONE
END:VCALENDAR
